BEGIN:VCALENDAR
VERSION:2.0
PRODID:-//Lower Raritan Watershed Partnership - ECPv6.15.20//NONSGML v1.0//EN
CALSCALE:GREGORIAN
METHOD:PUBLISH
X-ORIGINAL-URL:https://lowerraritanwatershed.org
X-WR-CALDESC:Events for Lower Raritan Watershed Partnership
REFRESH-INTERVAL;VALUE=DURATION:PT1H
X-Robots-Tag:noindex
X-PUBLISHED-TTL:PT1H
BEGIN:VTIMEZONE
TZID:America/New_York
BEGIN:DAYLIGHT
TZOFFSETFROM:-0500
TZOFFSETTO:-0400
TZNAME:EDT
DTSTART:20180311T070000
END:DAYLIGHT
BEGIN:STANDARD
TZOFFSETFROM:-0400
TZOFFSETTO:-0500
TZNAME:EST
DTSTART:20181104T060000
END:STANDARD
BEGIN:DAYLIGHT
TZOFFSETFROM:-0500
TZOFFSETTO:-0400
TZNAME:EDT
DTSTART:20190310T070000
END:DAYLIGHT
BEGIN:STANDARD
TZOFFSETFROM:-0400
TZOFFSETTO:-0500
TZNAME:EST
DTSTART:20191103T060000
END:STANDARD
BEGIN:DAYLIGHT
TZOFFSETFROM:-0500
TZOFFSETTO:-0400
TZNAME:EDT
DTSTART:20200308T070000
END:DAYLIGHT
BEGIN:STANDARD
TZOFFSETFROM:-0400
TZOFFSETTO:-0500
TZNAME:EST
DTSTART:20201101T060000
END:STANDARD
END:VTIMEZONE
BEGIN:VEVENT
DTSTART;TZID=America/New_York:20190920T090000
DTEND;TZID=America/New_York:20190920T170000
DTSTAMP:20260419T092108
CREATED:20190918T203905Z
LAST-MODIFIED:20190918T203906Z
UID:10000175-1568970000-1568998800@lowerraritanwatershed.org
SUMMARY:PARK(ing) Day 2019!
DESCRIPTION:PARK(ing) Day is a annual open-source global event where citizens\, artists and activists collaborate to temporarily transform metered parking spaces into “PARK(ing)” spaces: temporary public places. The project began in 2005 when Rebar\, a San Francisco art and design studio\, converted a single metered parking space into a temporary public park in downtown San Francisco. Since 2005\, PARK(ing) Day has evolved into a global movement\, with organizations and individuals (operating independently of Rebar but following an established set of guidelines) creating new forms of temporary public space in urban contexts around the world. \nThe mission of PARK(ing) Day is to call attention to the need for more urban open space\, to generate critical debate around how public space is created and allocated\, and to improve the quality of urban human habitat … at least until the meter runs out! \nThe LRWP is working with the Rutgers Department of Landscape Architecture\, New Jersey Chapter of the American Society of Landscape Architects\, and Garden of Healing Yoga & Wellness on this event. \nPlease join us Friday September 20\, from 9-5 in front of New Brunswick City Hall at 75 Bayard Street. See here for a pdf schedule of the day’s events: PARKing_Day_2019_Schedule
URL:https://lowerraritanwatershed.org/event/parking-day-2019/
LOCATION:PARK(ing) Day parking spot\, 78 Bayard Street\, New Brunswick\, NJ\, 08901\, United States
END:VEVENT
END:VCALENDAR